BEGIN:VCALENDAR
VERSION:2.0
PRODID:-//4RealSim//MedtecLIVE 2026//EN
CALSCALE:GREGORIAN
BEGIN:VEVENT
UID:medteclive-2026@4realsim.com
DTSTAMP:20260416T120000Z
DTSTART;VALUE=DATE:20260505
DTEND;VALUE=DATE:20260508
SUMMARY:MedtecLIVE 2026
DESCRIPTION:MedtecLIVE 2026 takes place from May 5 to 7 in Stuttgart, Germany.
LOCATION:Messe Stuttgart, Messepiazza 1, 70629 Stuttgart, Germany
STATUS:CONFIRMED
TRANSP:OPAQUE
END:VEVENT
END:VCALENDAR
